BEGIN:VCALENDAR
VERSION:2.0
PRODID:-//We Taste Food - ECPv5.8.1//NONSGML v1.0//EN
CALSCALE:GREGORIAN
METHOD:PUBLISH
X-WR-CALNAME:We Taste Food
X-ORIGINAL-URL:http://wetastefood.com
X-WR-CALDESC:Events for We Taste Food
BEGIN:VTIMEZONE
TZID:America/Edmonton
BEGIN:DAYLIGHT
TZOFFSETFROM:-0700
TZOFFSETTO:-0600
TZNAME:MDT
DTSTART:20160313T090000
END:DAYLIGHT
BEGIN:STANDARD
TZOFFSETFROM:-0600
TZOFFSETTO:-0700
TZNAME:MST
DTSTART:20161106T080000
END:STANDARD
END:VTIMEZONE
BEGIN:VEVENT
DTSTART;TZID=America/Edmonton:20160423T110000
DTEND;TZID=America/Edmonton:20160424T190000
DTSTAMP:20260424T111813
CREATED:20160405T203626Z
LAST-MODIFIED:20160405T203626Z
UID:3395-1461409200-1461524400@wetastefood.com
SUMMARY:YYCFoodTrucks Spring Frenzy
DESCRIPTION:You know the drill: 15+ Trucks\, Entertainment\, and Good Company all around. \n$5 Entry\, free for children under 12.
URL:http://wetastefood.com/events-calendar/yycfoodtrucks-spring-frenzy/
LOCATION:East Village\, Confluence Way SE\, Calgary\, AB\, Canada
END:VEVENT
END:VCALENDAR