BEGIN:VCALENDAR
VERSION:2.0
PRODID:-//We Taste Food - ECPv5.8.1//NONSGML v1.0//EN
CALSCALE:GREGORIAN
METHOD:PUBLISH
X-WR-CALNAME:We Taste Food
X-ORIGINAL-URL:http://wetastefood.com
X-WR-CALDESC:Events for We Taste Food
BEGIN:VTIMEZONE
TZID:America/Edmonton
BEGIN:DAYLIGHT
TZOFFSETFROM:-0700
TZOFFSETTO:-0600
TZNAME:MDT
DTSTART:20160313T090000
END:DAYLIGHT
BEGIN:STANDARD
TZOFFSETFROM:-0600
TZOFFSETTO:-0700
TZNAME:MST
DTSTART:20161106T080000
END:STANDARD
END:VTIMEZONE
BEGIN:VEVENT
DTSTART;VALUE=DATE:20160429
DTEND;VALUE=DATE:20160506
DTSTAMP:20260424T123503
CREATED:20160304T004651Z
LAST-MODIFIED:20160304T004907Z
UID:3369-1461888000-1462492799@wetastefood.com
SUMMARY:YYC Taco Fiesta
DESCRIPTION:YYC Taco Fiesta is a week long event where participating restaurants will offer a $5 taco\, or a $13 taco platter in celebration of this great culinary invention! Proceeds will go towards Kids Up Front\, Calgary Homeless Foundation\, and Calgary Food Bank. \n 
URL:http://wetastefood.com/events-calendar/yyc-taco-fiesta/
LOCATION:Citywide\, Calgary\, AB\, Canada
END:VEVENT
END:VCALENDAR