BEGIN:VCALENDAR
VERSION:2.0
PRODID:-//We Taste Food - ECPv5.8.1//NONSGML v1.0//EN
CALSCALE:GREGORIAN
METHOD:PUBLISH
X-WR-CALNAME:We Taste Food
X-ORIGINAL-URL:http://wetastefood.com
X-WR-CALDESC:Events for We Taste Food
BEGIN:VTIMEZONE
TZID:America/Edmonton
BEGIN:DAYLIGHT
TZOFFSETFROM:-0700
TZOFFSETTO:-0600
TZNAME:MDT
DTSTART:20150308T090000
END:DAYLIGHT
BEGIN:STANDARD
TZOFFSETFROM:-0600
TZOFFSETTO:-0700
TZNAME:MST
DTSTART:20151101T080000
END:STANDARD
END:VTIMEZONE
BEGIN:VEVENT
DTSTART;TZID=America/Edmonton:20151021T180000
DTEND;TZID=America/Edmonton:20151021T200000
DTSTAMP:20260424T055540
CREATED:20151016T050036Z
LAST-MODIFIED:20151016T050103Z
UID:3178-1445450400-1445457600@wetastefood.com
SUMMARY:The Eric Francis Pizza Pigout
DESCRIPTION:Pizza\, Beer\, Local Celebrities and Charity! This annual event will showcase some of Calgary’s best pizzas while raising money for You Can Play\, The Big Give\, and KidSport Calgary. \nCheck out this video from the 2014 event for more information: \nhttps://www.youtube.com/watch?v=btx5_ZJJ3HU
URL:http://wetastefood.com/events-calendar/the-eric-francis-pizza-pigout/
LOCATION:Cowboys Dance Hall\, 421 12 Ave SE\, Calgary\, AB\, Canada
END:VEVENT
END:VCALENDAR