BEGIN:VCALENDAR
VERSION:2.0
PRODID:-//We Taste Food - ECPv5.8.1//NONSGML v1.0//EN
CALSCALE:GREGORIAN
METHOD:PUBLISH
X-WR-CALNAME:We Taste Food
X-ORIGINAL-URL:http://wetastefood.com
X-WR-CALDESC:Events for We Taste Food
BEGIN:VTIMEZONE
TZID:America/Edmonton
BEGIN:DAYLIGHT
TZOFFSETFROM:-0700
TZOFFSETTO:-0600
TZNAME:MDT
DTSTART:20160313T090000
END:DAYLIGHT
BEGIN:STANDARD
TZOFFSETFROM:-0600
TZOFFSETTO:-0700
TZNAME:MST
DTSTART:20161106T080000
END:STANDARD
END:VTIMEZONE
BEGIN:VEVENT
DTSTART;VALUE=DATE:20160304
DTEND;VALUE=DATE:20160314
DTSTAMP:20260420T051828
CREATED:20160304T003108Z
LAST-MODIFIED:20160304T004941Z
UID:2285-1457049600-1457913599@wetastefood.com
SUMMARY:The Big Taste
DESCRIPTION:Over 85 of Calgary’s downtown restaurants bring you prix fixe dining during this 10 day annual event. \nPricing: \n\nLunches $15 or $25 per person – Three Course Meal\nDinner $25 or $35 per person – Three Course Meal\nGourmet $65 per person – Five Course Meal\n\nCheckout the Downtown Calgary website for full details and offerings.
URL:http://wetastefood.com/events-calendar/the-big-taste-2016/
LOCATION:Citywide\, Calgary\, AB\, Canada
END:VEVENT
END:VCALENDAR