BEGIN:VCALENDAR
VERSION:2.0
PRODID:-//We Taste Food - ECPv5.8.1//NONSGML v1.0//EN
CALSCALE:GREGORIAN
METHOD:PUBLISH
X-WR-CALNAME:We Taste Food
X-ORIGINAL-URL:http://wetastefood.com
X-WR-CALDESC:Events for We Taste Food
BEGIN:VTIMEZONE
TZID:America/Edmonton
BEGIN:DAYLIGHT
TZOFFSETFROM:-0700
TZOFFSETTO:-0600
TZNAME:MDT
DTSTART:20150308T090000
END:DAYLIGHT
BEGIN:STANDARD
TZOFFSETFROM:-0600
TZOFFSETTO:-0700
TZNAME:MST
DTSTART:20151101T080000
END:STANDARD
END:VTIMEZONE
BEGIN:VEVENT
DTSTART;TZID=America/Edmonton:20151110T190000
DTEND;TZID=America/Edmonton:20151110T220000
DTSTAMP:20260418T233415
CREATED:20151016T041343Z
LAST-MODIFIED:20151016T043434Z
UID:3176-1447182000-1447192800@wetastefood.com
SUMMARY:Ocean Wise Chowder Chowdown
DESCRIPTION:Overfishing is the biggest issue our oceans face today. Join Canada’s growing sustainable seafood movement as Calgary’s top chefs compete head-to-head for the title of 2015 Ocean Wise Chowder Chowdown Champion. Taste delectable\, ocean-friendly seafood chowders paired with beer\, and vote for your favourite\, all in support of sustainable seafood. \n– Vancouver Aquarium
URL:http://wetastefood.com/events-calendar/ocean-wise-chowder-chowdown-2015/
LOCATION:Hyatt Regency\, 700 Centre Street SE \, Calgary\, AB\, Canada
END:VEVENT
END:VCALENDAR