BEGIN:VCALENDAR
VERSION:2.0
PRODID:-//We Taste Food - ECPv5.8.1//NONSGML v1.0//EN
CALSCALE:GREGORIAN
METHOD:PUBLISH
X-WR-CALNAME:We Taste Food
X-ORIGINAL-URL:http://wetastefood.com
X-WR-CALDESC:Events for We Taste Food
BEGIN:VTIMEZONE
TZID:America/Edmonton
BEGIN:DAYLIGHT
TZOFFSETFROM:-0700
TZOFFSETTO:-0600
TZNAME:MDT
DTSTART:20160313T090000
END:DAYLIGHT
BEGIN:STANDARD
TZOFFSETFROM:-0600
TZOFFSETTO:-0700
TZNAME:MST
DTSTART:20161106T080000
END:STANDARD
END:VTIMEZONE
BEGIN:VEVENT
DTSTART;TZID=America/Edmonton:20160304T140000
DTEND;TZID=America/Edmonton:20160304T180000
DTSTAMP:20260423T154805
CREATED:20160304T010045Z
LAST-MODIFIED:20160304T010045Z
UID:3372-1457100000-1457114400@wetastefood.com
SUMMARY:King of Donair Pop-up
DESCRIPTION:King of Donair\, Canada’s first shop to serve the Donair\, is holding a pop-up shop in Kensington and brings with them their East-coast style goodness. Donairs will be served until supplies run out.
URL:http://wetastefood.com/events-calendar/king-of-donair-pop-up/
LOCATION:Meraki Supply Co.\, 305 10 St NW\, Calgary\, Alberta\, Canada
END:VEVENT
END:VCALENDAR