BEGIN:VCALENDAR
VERSION:2.0
PRODID:-//We Taste Food - ECPv5.8.1//NONSGML v1.0//EN
CALSCALE:GREGORIAN
METHOD:PUBLISH
X-WR-CALNAME:We Taste Food
X-ORIGINAL-URL:http://wetastefood.com
X-WR-CALDESC:Events for We Taste Food
BEGIN:VTIMEZONE
TZID:America/Edmonton
BEGIN:DAYLIGHT
TZOFFSETFROM:-0700
TZOFFSETTO:-0600
TZNAME:MDT
DTSTART:20160313T090000
END:DAYLIGHT
BEGIN:STANDARD
TZOFFSETFROM:-0600
TZOFFSETTO:-0700
TZNAME:MST
DTSTART:20161106T080000
END:STANDARD
END:VTIMEZONE
BEGIN:VEVENT
DTSTART;TZID=America/Edmonton:20160224T160000
DTEND;TZID=America/Edmonton:20160224T180000
DTSTAMP:20260419T010704
CREATED:20160204T220216Z
LAST-MODIFIED:20160204T220425Z
UID:3358-1456329600-1456336800@wetastefood.com
SUMMARY:Downtown Libations - February
DESCRIPTION:“After a successful debut event\, Downtown Libations returns in February at the Hyatt’s Sandstone Lounge featuring special one night only $5 happy hour drinks and appetizer specials. \nDrink Specials: $5\n– Sandstone Buffalo Lager\n– Caesar\n– Red wine\n– White wine\n– Rye high ball \nAppetizer Specials: $5\n– Fried calamari\, lemon\, chipotle aioli\n– BBQ spiced chips\, black olive aioli\n– Lambtastic Farms lamb meatballs\, chili-tomato sauce\, shaved parmesan cheese \nAlso all event attendees can enter to win a $50 gift card for the Hyatt Sandstone Lounge. ” \n– Downtown Calgary
URL:http://wetastefood.com/events-calendar/downtown-libations-february/
LOCATION:Hyatt Regency\, 700 Centre Street SE \, Calgary\, AB\, Canada
END:VEVENT
END:VCALENDAR