BEGIN:VCALENDAR
VERSION:2.0
PRODID:-//We Taste Food - ECPv5.8.1//NONSGML v1.0//EN
CALSCALE:GREGORIAN
METHOD:PUBLISH
X-WR-CALNAME:We Taste Food
X-ORIGINAL-URL:http://wetastefood.com
X-WR-CALDESC:Events for We Taste Food
BEGIN:VTIMEZONE
TZID:America/Edmonton
BEGIN:DAYLIGHT
TZOFFSETFROM:-0700
TZOFFSETTO:-0600
TZNAME:MDT
DTSTART:20150308T090000
END:DAYLIGHT
BEGIN:STANDARD
TZOFFSETFROM:-0600
TZOFFSETTO:-0700
TZNAME:MST
DTSTART:20151101T080000
END:STANDARD
END:VTIMEZONE
BEGIN:VEVENT
DTSTART;TZID=America/Edmonton:20150914T170000
DTEND;TZID=America/Edmonton:20150914T210000
DTSTAMP:20260424T151125
CREATED:20150716T001344Z
LAST-MODIFIED:20150716T003428Z
UID:2248-1442250000-1442264400@wetastefood.com
SUMMARY:City Palate's 3rd Annual Really Really Long Table Dinner
DESCRIPTION:There’s a long table dinner\, and then there’s City Palate’s Annual Really Really Long Table Dinner. So long\, it fits 280 people! With 7 courses presented by 10 restaurants (Blink\, Catch & The Oyster Bar\, Charcut\, Divino\, Teatro\, Wine-Ohs\, The Belvedere\, Trib Steakhouse\, Home Tasting Room\, and The Bank & Baron)\, this is sure to be an amazing event. Tickets are $175 each\, or $200 with a wine pairings. 
URL:http://wetastefood.com/events-calendar/city-palates-3rd-annual-really-really-long-table-dinner/
LOCATION:Stephen Avenue\, 100 8th Ave \, Calgary\, Alberta\, Canada
END:VEVENT
END:VCALENDAR