BEGIN:VCALENDAR
VERSION:2.0
PRODID:-//We Taste Food - ECPv5.8.1//NONSGML v1.0//EN
CALSCALE:GREGORIAN
METHOD:PUBLISH
X-WR-CALNAME:We Taste Food
X-ORIGINAL-URL:http://wetastefood.com
X-WR-CALDESC:Events for We Taste Food
BEGIN:VTIMEZONE
TZID:America/Edmonton
BEGIN:DAYLIGHT
TZOFFSETFROM:-0700
TZOFFSETTO:-0600
TZNAME:MDT
DTSTART:20160313T090000
END:DAYLIGHT
BEGIN:STANDARD
TZOFFSETFROM:-0600
TZOFFSETTO:-0700
TZNAME:MST
DTSTART:20161106T080000
END:STANDARD
END:VTIMEZONE
BEGIN:VEVENT
DTSTART;TZID=America/Edmonton:20160531T170000
DTEND;TZID=America/Edmonton:20160531T210000
DTSTAMP:20260424T154024
CREATED:20160405T202749Z
LAST-MODIFIED:20160405T202749Z
UID:3392-1464714000-1464728400@wetastefood.com
SUMMARY:Cibo's Fourth Anniversary Party
DESCRIPTION:Please join us as we celebrate how incredible the past four years have been with a restaurant-wide\,  grandioso event! In partnership with our suppliers and friends\, we will be offering\, pizza and other bites from the Cibo kitchen\, along with beer\, wine and cocktails. In honour of the year we opened\, tickets are $20.12 and include all food\, drink\, tax and gratuity. \n– Cibo Calgary
URL:http://wetastefood.com/events-calendar/cibos-fourth-anniversary-party/
LOCATION:Cibo\, 1012 17 Ave SW\, Calgary\, Alberta\, Canada
END:VEVENT
END:VCALENDAR