BEGIN:VCALENDAR
VERSION:2.0
PRODID:-//We Taste Food - ECPv5.8.1//NONSGML v1.0//EN
CALSCALE:GREGORIAN
METHOD:PUBLISH
X-WR-CALNAME:We Taste Food
X-ORIGINAL-URL:http://wetastefood.com
X-WR-CALDESC:Events for We Taste Food
BEGIN:VTIMEZONE
TZID:America/Edmonton
BEGIN:DAYLIGHT
TZOFFSETFROM:-0700
TZOFFSETTO:-0600
TZNAME:MDT
DTSTART:20150308T090000
END:DAYLIGHT
BEGIN:STANDARD
TZOFFSETFROM:-0600
TZOFFSETTO:-0700
TZNAME:MST
DTSTART:20151101T080000
END:STANDARD
END:VTIMEZONE
BEGIN:VEVENT
DTSTART;TZID=America/Edmonton:20151107T162000
DTEND;TZID=America/Edmonton:20151107T220000
DTSTAMP:20260417T203634
CREATED:20151026T092114Z
LAST-MODIFIED:20151026T092137Z
UID:3188-1446913200-1446933600@wetastefood.com
SUMMARY:Calgary Wingfest
DESCRIPTION:Join us Saturday November 7th in Calgary from 4:20PM to 10:00PM at The Westin downtown for The Calgary Wing Festival brought to you by WingsnBeer.com. \nThe Spirit of The 2015 Calgary Wing Festival is to connect our community\, to discover the most remarkable chicken wings Calgary’s pubs and restaurants serve and to support local organizations. \n– Calgary Wingfest
URL:http://wetastefood.com/events-calendar/calgary-wingfest/
LOCATION:The Westin Calgary\, 320 4th Ave SW\, Calgary\, AB\, T2P 2S6\, Canada
END:VEVENT
END:VCALENDAR