BEGIN:VCALENDAR
VERSION:2.0
PRODID:-//We Taste Food - ECPv5.8.1//NONSGML v1.0//EN
CALSCALE:GREGORIAN
METHOD:PUBLISH
X-WR-CALNAME:We Taste Food
X-ORIGINAL-URL:http://wetastefood.com
X-WR-CALDESC:Events for We Taste Food
BEGIN:VTIMEZONE
TZID:America/Edmonton
BEGIN:DAYLIGHT
TZOFFSETFROM:-0700
TZOFFSETTO:-0600
TZNAME:MDT
DTSTART:20160313T090000
END:DAYLIGHT
BEGIN:STANDARD
TZOFFSETFROM:-0600
TZOFFSETTO:-0700
TZNAME:MST
DTSTART:20161106T080000
END:STANDARD
END:VTIMEZONE
BEGIN:VEVENT
DTSTART;VALUE=DATE:20160506
DTEND;VALUE=DATE:20160508
DTSTAMP:20260420T045831
CREATED:20160304T005313Z
LAST-MODIFIED:20160304T005401Z
UID:3370-1462492800-1462665599@wetastefood.com
SUMMARY:Calgary International Beerfest
DESCRIPTION:Increase your beer knowledge and find a new favourite by sampling some of the more than 500 different types of beer on site. New this year\, you can find out exactly how beer is made\, preserved\, and enjoyed at ATB Financial’s Beer University! \nTake part in beer seminars\, vote for the People’s Choice awards\, and meet new people. You can sample delicious foods from over 40 of Calgary’s best pubs and restaurants\, enjoy the atmosphere and entertainment\, and most importantly have a great time! \n-Alberta Beer Festivals
URL:http://wetastefood.com/events-calendar/calgary-international-beerfest/
LOCATION:BMO Centre\, 20 Roundup Way SW\, Calgary\, AB\, T2G 2W1\, Canada
END:VEVENT
END:VCALENDAR