BEGIN:VCALENDAR
VERSION:2.0
PRODID:-//We Taste Food - ECPv5.8.1//NONSGML v1.0//EN
CALSCALE:GREGORIAN
METHOD:PUBLISH
X-WR-CALNAME:We Taste Food
X-ORIGINAL-URL:http://wetastefood.com
X-WR-CALDESC:Events for We Taste Food
BEGIN:VTIMEZONE
TZID:America/Edmonton
BEGIN:DAYLIGHT
TZOFFSETFROM:-0700
TZOFFSETTO:-0600
TZNAME:MDT
DTSTART:20150308T090000
END:DAYLIGHT
BEGIN:STANDARD
TZOFFSETFROM:-0600
TZOFFSETTO:-0700
TZNAME:MST
DTSTART:20151101T080000
END:STANDARD
END:VTIMEZONE
BEGIN:VEVENT
DTSTART;VALUE=DATE:20151112
DTEND;VALUE=DATE:20151123
DTSTAMP:20260423T225434
CREATED:20150820T032406Z
LAST-MODIFIED:20150820T032743Z
UID:2600-1447286400-1448236799@wetastefood.com
SUMMARY:Bon Appétit Banff
DESCRIPTION:Kick off Winterstart Festival in Banff with their version of The Big Taste! Escape to the mountains and enjoy some of the best restaurants in the Banff and Lake Louise area. Restaurants will offer three-course menus at fixed prices of $27\, $37\, $47\, or $57.
URL:http://wetastefood.com/events-calendar/bon-appetit-banff/
LOCATION:Banff\, Banff\, Alberta\, Canada
END:VEVENT
END:VCALENDAR