BEGIN:VCALENDAR
VERSION:2.0
PRODID:-//We Taste Food - ECPv5.8.1//NONSGML v1.0//EN
CALSCALE:GREGORIAN
METHOD:PUBLISH
X-WR-CALNAME:We Taste Food
X-ORIGINAL-URL:http://wetastefood.com
X-WR-CALDESC:Events for We Taste Food
BEGIN:VTIMEZONE
TZID:America/Edmonton
BEGIN:DAYLIGHT
TZOFFSETFROM:-0700
TZOFFSETTO:-0600
TZNAME:MDT
DTSTART:20150308T090000
END:DAYLIGHT
BEGIN:STANDARD
TZOFFSETFROM:-0600
TZOFFSETTO:-0700
TZNAME:MST
DTSTART:20151101T080000
END:STANDARD
END:VTIMEZONE
BEGIN:VEVENT
DTSTART;TZID=America/Edmonton:20150917T203000
DTEND;TZID=America/Edmonton:20150917T211500
DTSTAMP:20260424T110223
CREATED:20150801T215818Z
LAST-MODIFIED:20150813T085709Z
UID:2374-1442521800-1442524500@wetastefood.com
SUMMARY:Beakerhead - Taste
DESCRIPTION:Taste is a mashup of theatre\, food\, and science – three subjects that you wouldn’t normally associate with each other when thinking about them individually. Participants will be blindfolded and experience food in a way that they’ve never imagined before. Taste is presented by Ghost River Theatre in collaboration with Vertical City Performance\, in addition to culinary creations from River Cafe Chef Andrew Winfield and Proprietor Sal Howell. Tickets available here. \nThis event is recurring: Sept 17\, Sept 18\, and Sept 20 @ 8:30pm & 9:30pm seatings.
URL:http://wetastefood.com/events-calendar/beakerhead-taste/
LOCATION:River Cafe\, 25 Prince's Island Park\, Calgary\, AB\, Canada
END:VEVENT
END:VCALENDAR