BEGIN:VCALENDAR
VERSION:2.0
PRODID:-//We Taste Food - ECPv5.8.1//NONSGML v1.0//EN
CALSCALE:GREGORIAN
METHOD:PUBLISH
X-WR-CALNAME:We Taste Food
X-ORIGINAL-URL:http://wetastefood.com
X-WR-CALDESC:Events for We Taste Food
BEGIN:VTIMEZONE
TZID:America/Edmonton
BEGIN:DAYLIGHT
TZOFFSETFROM:-0700
TZOFFSETTO:-0600
TZNAME:MDT
DTSTART:20150308T090000
END:DAYLIGHT
BEGIN:STANDARD
TZOFFSETFROM:-0600
TZOFFSETTO:-0700
TZNAME:MST
DTSTART:20151101T080000
END:STANDARD
END:VTIMEZONE
BEGIN:VEVENT
DTSTART;VALUE=DATE:20150916
DTEND;VALUE=DATE:20150921
DTSTAMP:20260424T135356
CREATED:20150716T044120Z
LAST-MODIFIED:20150910T212614Z
UID:2258-1442361600-1442793599@wetastefood.com
SUMMARY:Beakerhead - Engineered Eats
DESCRIPTION:For those who don’t know\, Beakerhead is a citywide festival that blurs the lines between art\, science\, and engineering. This year\, restaurants and bars across the city will be challenged to come up with their own delectable interpretation of the theme – eggs! What kind of eggstravagant creations will our city’s best chefs design\, build\, and fabricate? Check out the list of participating eateries and find out! Prices may vary.
URL:http://wetastefood.com/events-calendar/beakerhead-engineered-eats-2015/
LOCATION:Citywide\, Calgary\, AB\, Canada
END:VEVENT
END:VCALENDAR