BEGIN:VCALENDAR
VERSION:2.0
PRODID:-//We Taste Food - ECPv5.8.1//NONSGML v1.0//EN
CALSCALE:GREGORIAN
METHOD:PUBLISH
X-WR-CALNAME:We Taste Food
X-ORIGINAL-URL:http://wetastefood.com
X-WR-CALDESC:Events for We Taste Food
BEGIN:VTIMEZONE
TZID:America/Edmonton
BEGIN:DAYLIGHT
TZOFFSETFROM:-0700
TZOFFSETTO:-0600
TZNAME:MDT
DTSTART:20160313T090000
END:DAYLIGHT
BEGIN:STANDARD
TZOFFSETFROM:-0600
TZOFFSETTO:-0700
TZNAME:MST
DTSTART:20161106T080000
END:STANDARD
END:VTIMEZONE
BEGIN:VEVENT
DTSTART;TZID=America/Edmonton:20160228T180000
DTEND;TZID=America/Edmonton:20160228T203000
DTSTAMP:20260424T004107
CREATED:20151016T044201Z
LAST-MODIFIED:20151016T044831Z
UID:3184-1456682400-1456691400@wetastefood.com
SUMMARY:Pastry Chef Showcase 2016
DESCRIPTION:The Pastry Chef Guild of Alberta and L’Arche Calgary team up to offer Calgary a sweet experience\, the Pastry Chef Showcase! Funds raised from the Pastry Chef Showcase help support L’Arche Calgary. The Showcase is an exclusive and unique dessert experience. The Showcase is held on a biennial basis. \nHighlights: \n\nOver a dozen prestigious pastry chefs and their establishments will offer up an array of decadent desserts.\nIn between sweets\, you can cleanse your palate with artisan breads and cheeses\, and sip boutique wines and beers.\nChefs will compete for a lucrative People’s Choice Award.\nAs a special highlight for our fifth event\, chefs will be participating in a Chocolate Competition\, presenting stunning chocolate showpieces for you to vote upon.\nThe event will feature a silent auction where you’ll get a chance to bid on offerings from local chefs and other goodies.\n\n– The Pastry Chef Showcase
URL:http://wetastefood.com/events-calendar/asdfjkl/
LOCATION:Heritage Park\, 1900 Heritage Dr SW\, Calgary\, AB\, Canada
END:VEVENT
END:VCALENDAR